View In:
ArcGIS JavaScript
ArcGIS Online Map Viewer
ArcGIS Earth
ArcMap
View Footprint In:
ArcGIS Online Map Viewer
Service Description: Die Amtliche Karte 1 : 5 000 (AK5) stellt Inhalte aus der Liegenschaftskarte des Amtlichen Liegenschaftskatasterinformationssystems (ALKIS) und den mittelmaßstäbigen topographischen Landeskartenwerken ab dem Maßstab 1:25 000 dar.
Name: Rasterdaten/AK5
Description: Die Amtliche Karte 1 : 5 000 (AK5) stellt Inhalte aus der Liegenschaftskarte des Amtlichen Liegenschaftskatasterinformationssystems (ALKIS) und den mittelmaßstäbigen topographischen Landeskartenwerken ab dem Maßstab 1:25 000 dar.
Single Fused Map Cache: false
Extent:
XMin: 520999.9822771633
YMin: 5720999.942936342
XMax: 561999.9822771633
YMax: 5766999.942936342
Spatial Reference: 25832
(25832)
Initial Extent:
XMin: 520999.9822771633
YMin: 5720999.942936342
XMax: 561999.9822771633
YMax: 5766999.942936342
Spatial Reference: 25832
(25832)
Full Extent:
XMin: 520999.9822771633
YMin: 5720999.942936342
XMax: 561999.9822771633
YMax: 5766999.942936342
Spatial Reference: 25832
(25832)
Pixel Size X: 0.25
Pixel Size Y: 0.25
Band Count: 3
Pixel Type: U8
RasterFunction Infos: {"rasterFunctionInfos": [{
"name": "None",
"description": "",
"help": ""
}]}
Mensuration Capabilities: Basic
Has Histograms: true
Has Colormap: false
Has Multi Dimensions : false
Rendering Rule:
Min Scale: 0
Max Scale: 0
Copyright Text: © GeoBasis-DE/LGLN (2023), CC-BY 4.0.
Service Data Type: esriImageServiceDataTypeRGB
Min Values: 0, 0, 0
Max Values: 255, 255, 255
Mean Values: 207.49700469163602, 226.36365410562195, 214.89969585646446
Standard Deviation Values: 43.04865103358418, 41.37573057467644, 42.044015098769535
Object ID Field:
Fields:
None
Default Mosaic Method: Center
Allowed Mosaic Methods:
SortField:
SortValue: null
Mosaic Operator: First
Default Compression Quality: 75
Default Resampling Method: Bilinear
Max Record Count: null
Max Image Height: 4100
Max Image Width: 15000
Max Download Image Count: null
Max Mosaic Image Count: null
Allow Raster Function: true
Allow Copy: null
Allow Analysis: null
Allow Compute TiePoints: false
Supports Statistics: false
Supports Advanced Queries: false
Use StandardizedQueries: true
Raster Type Infos:
Name: Raster Dataset
Description: Supports all ArcGIS Raster Datasets
Help:
Has Raster Attribute Table: false
Edit Fields Info: null
Ownership Based AccessControl For Rasters: null
Child Resources:
Info
Histograms
Key Properties
Legend
Raster Function Infos
Supported Operations:
Export Image
Identify
Measure
Compute Histograms
Compute Statistics Histograms
Get Samples
Compute Class Statistics
Query Boundary
Compute Pixel Location
Compute Angles
Validate
Project