{
 "currentVersion": 10.91,
 "serviceDescription": "Die Amtliche Karte 1 : 5 000 (AK5) stellt Inhalte aus der Liegenschaftskarte des Amtlichen Liegenschaftskatasterinformationssystems (ALKIS) und den mittelmaßstäbigen topographischen Landeskartenwerken ab dem Maßstab 1:25 000 dar.",
 "name": "Rasterdaten/AK5",
 "description": "Die Amtliche Karte 1 : 5 000 (AK5) stellt Inhalte aus der Liegenschaftskarte des Amtlichen Liegenschaftskatasterinformationssystems (ALKIS) und den mittelmaßstäbigen topographischen Landeskartenwerken ab dem Maßstab 1:25 000 dar.",
 "extent": {
  "xmin": 520999.9822771633,
  "ymin": 5720999.942936342,
  "xmax": 561999.9822771633,
  "ymax": 5766999.942936342,
  "spatialReference": {
   "wkid": 25832,
   "latestWkid": 25832
  }
 },
 "initialExtent": {
  "xmin": 520999.9822771633,
  "ymin": 5720999.942936342,
  "xmax": 561999.9822771633,
  "ymax": 5766999.942936342,
  "spatialReference": {
   "wkid": 25832,
   "latestWkid": 25832
  }
 },
 "fullExtent": {
  "xmin": 520999.9822771633,
  "ymin": 5720999.942936342,
  "xmax": 561999.9822771633,
  "ymax": 5766999.942936342,
  "spatialReference": {
   "wkid": 25832,
   "latestWkid": 25832
  }
 },
 "pixelSizeX": 0.25,
 "pixelSizeY": 0.25,
 "bandCount": 3,
 "pixelType": "U8",
 "minPixelSize": 0,
 "maxPixelSize": 0,
 "copyrightText": "© GeoBasis-DE/LGLN (2023), CC-BY 4.0.",
 "serviceDataType": "esriImageServiceDataTypeRGB",
 "minValues": [
  0,
  0,
  0
 ],
 "maxValues": [
  255,
  255,
  255
 ],
 "meanValues": [
  207.49700469163602,
  226.36365410562195,
  214.89969585646446
 ],
 "stdvValues": [
  43.04865103358418,
  41.37573057467644,
  42.044015098769535
 ],
 "objectIdField": "",
 "fields": [],
 "capabilities": "Image,Metadata,Mensuration",
 "defaultMosaicMethod": "Center",
 "allowedMosaicMethods": "",
 "sortField": "",
 "sortValue": null,
 "sortAscending": true,
 "mosaicOperator": "First",
 "defaultCompressionQuality": 75,
 "defaultResamplingMethod": "Bilinear",
 "maxImageHeight": 4100,
 "maxImageWidth": 15000,
 "allowRasterFunction": true,
 "rasterFunctionInfos": [
  {
   "name": "None",
   "description": "",
   "help": ""
  }
 ],
 "rasterTypeInfos": [
  {
   "name": "Raster Dataset",
   "description": "Supports all ArcGIS Raster Datasets",
   "help": ""
  }
 ],
 "mensurationCapabilities": "Basic",
 "hasHistograms": true,
 "hasColormap": false,
 "hasRasterAttributeTable": false,
 "minScale": 0,
 "maxScale": 0,
 "exportTilesAllowed": false,
 "hasMultidimensions": false,
 "supportsStatistics": false,
 "supportsAdvancedQueries": false,
 "editFieldsInfo": null,
 "ownershipBasedAccessControlForRasters": null,
 "allowComputeTiePoints": false,
 "useStandardizedQueries": true,
 "advancedQueryCapabilities": {
  "useStandardizedQueries": true,
  "supportsStatistics": false,
  "supportsOrderBy": false,
  "supportsDistinct": false,
  "supportsPagination": false
 },
 "spatialReference": {
  "wkid": 25832,
  "latestWkid": 25832
 }
}
