View In:
ArcGIS JavaScript
ArcGIS Online Map Viewer
ArcGIS Earth
ArcMap
View Footprint In:
ArcGIS Online Map Viewer
Service Description: Image-Service der digitalen Orthophotos des LGLN der aktuellsten Befliegung.
Name: Rasterdaten/Digitale_Orthophotos_2025
Description: Image-Service der digitalen Orthophotos des LGLN der aktuellsten Befliegung.
Single Fused Map Cache: false
Extent:
XMin: 519999.9322771635
YMin: 5719999.942936342
XMax: 561999.9322771635
YMax: 5767999.942936342
Spatial Reference: 25832
(25832)
Initial Extent:
XMin: 519999.9322771635
YMin: 5719999.942936342
XMax: 561999.9322771635
YMax: 5767999.942936342
Spatial Reference: 25832
(25832)
Full Extent:
XMin: 519999.9322771635
YMin: 5719999.942936342
XMax: 561999.9322771635
YMax: 5767999.942936342
Spatial Reference: 25832
(25832)
Pixel Size X: 0.2
Pixel Size Y: 0.2
Band Count: 3
Pixel Type: U8
RasterFunction Infos: {"rasterFunctionInfos": [{
"name": "None",
"description": "",
"help": ""
}]}
Mensuration Capabilities: Basic
Has Histograms: true
Has Colormap: false
Has Multi Dimensions : false
Rendering Rule:
Min Scale: 0
Max Scale: 0
Copyright Text: © GeoBasis-DE/LGLN (2025), CC-BY 4.0.
Service Data Type: esriImageServiceDataTypeRGB
Min Values: 0, 0, 0
Max Values: 255, 255, 255
Mean Values: 108.42030822283186, 109.93922848615044, 108.75334585395281
Standard Deviation Values: 40.88671152845916, 38.28003869599988, 35.31099477202629
Object ID Field:
Fields:
None
Default Mosaic Method: Center
Allowed Mosaic Methods:
SortField:
SortValue: null
Mosaic Operator: First
Default Compression Quality: 75
Default Resampling Method: Bilinear
Max Record Count: null
Max Image Height: 4100
Max Image Width: 15000
Max Download Image Count: null
Max Mosaic Image Count: null
Allow Raster Function: true
Allow Copy: null
Allow Analysis: null
Allow Compute TiePoints: false
Supports Statistics: false
Supports Advanced Queries: false
Use StandardizedQueries: true
Raster Type Infos:
Name: Raster Dataset
Description: Supports all ArcGIS Raster Datasets
Help:
Has Raster Attribute Table: false
Edit Fields Info: null
Ownership Based AccessControl For Rasters: null
Child Resources:
Info
Histograms
Key Properties
Legend
Raster Function Infos
Supported Operations:
Export Image
Identify
Measure
Compute Histograms
Compute Statistics Histograms
Get Samples
Compute Class Statistics
Query Boundary
Compute Pixel Location
Compute Angles
Validate
Project