View In:
ArcGIS JavaScript
ArcGIS Online Map Viewer
ArcGIS Earth
ArcMap
View Footprint In:
ArcGIS Online Map Viewer
Service Description: Digitale Topographische Karte 1 : 100.000 (DTK100)
Name: Rasterdaten/DTK100
Description: Digitale Topographische Karte 1 : 100.000 (DTK100)
Single Fused Map Cache: false
Extent:
XMin: 500001.7322771633
YMin: 5711998.942936342
XMax: 588001.7322771633
YMax: 5791998.942936342
Spatial Reference: 25832
(25832)
Initial Extent:
XMin: 500001.7322771633
YMin: 5711998.942936342
XMax: 588001.7322771633
YMax: 5791998.942936342
Spatial Reference: 25832
(25832)
Full Extent:
XMin: 500001.7322771633
YMin: 5711998.942936342
XMax: 588001.7322771633
YMax: 5791998.942936342
Spatial Reference: 25832
(25832)
Pixel Size X: 5.0
Pixel Size Y: 5.0
Band Count: 3
Pixel Type: U8
RasterFunction Infos: {"rasterFunctionInfos": [{
"name": "None",
"description": "",
"help": ""
}]}
Mensuration Capabilities: Basic
Has Histograms: false
Has Colormap: false
Has Multi Dimensions : false
Rendering Rule:
Min Scale: 0
Max Scale: 0
Copyright Text: © GeoBasis-DE/LGLN (2022), CC-BY 4.0.
Service Data Type: esriImageServiceDataTypeThematic
Min Values: N/A
Max Values: N/A
Mean Values: N/A
Standard Deviation Values: N/A
Object ID Field:
Fields:
None
Default Mosaic Method: Center
Allowed Mosaic Methods:
SortField:
SortValue: null
Mosaic Operator: First
Default Compression Quality: 75
Default Resampling Method: Bilinear
Max Record Count: null
Max Image Height: 4100
Max Image Width: 15000
Max Download Image Count: null
Max Mosaic Image Count: null
Allow Raster Function: true
Allow Copy: null
Allow Analysis: null
Allow Compute TiePoints: false
Supports Statistics: false
Supports Advanced Queries: false
Use StandardizedQueries: true
Raster Type Infos:
Name: Raster Dataset
Description: Supports all ArcGIS Raster Datasets
Help:
Has Raster Attribute Table: false
Edit Fields Info: null
Ownership Based AccessControl For Rasters: null
Child Resources:
Info
Key Properties
Legend
Raster Function Infos
Supported Operations:
Export Image
Identify
Measure
Compute Histograms
Compute Statistics Histograms
Get Samples
Compute Class Statistics
Query Boundary
Compute Pixel Location
Compute Angles
Validate
Project