{
 "currentVersion": 10.91,
 "serviceDescription": "Image-Service der digitalen Orthophotos des LGLN der aktuellesten Befliegung.",
 "name": "Rasterdaten/Digitale_Orthophotos",
 "description": "Image-Service der digitalen Orthophotos des LGLN der aktuellesten Befliegung.",
 "extent": {
  "xmin": 517999.9322771635,
  "ymin": 5719999.942936342,
  "xmax": 561999.9322771635,
  "ymax": 5765999.942936342,
  "spatialReference": {
   "wkid": 25832,
   "latestWkid": 25832
  }
 },
 "initialExtent": {
  "xmin": 517999.9322771635,
  "ymin": 5719999.942936342,
  "xmax": 561999.9322771635,
  "ymax": 5765999.942936342,
  "spatialReference": {
   "wkid": 25832,
   "latestWkid": 25832
  }
 },
 "fullExtent": {
  "xmin": 517999.9322771635,
  "ymin": 5719999.942936342,
  "xmax": 561999.9322771635,
  "ymax": 5765999.942936342,
  "spatialReference": {
   "wkid": 25832,
   "latestWkid": 25832
  }
 },
 "pixelSizeX": 0.2,
 "pixelSizeY": 0.2,
 "bandCount": 3,
 "pixelType": "U8",
 "minPixelSize": 0,
 "maxPixelSize": 0,
 "copyrightText": "© GeoBasis-DE/LGLN (2022), CC-BY 4.0.",
 "serviceDataType": "esriImageServiceDataTypeRGB",
 "minValues": [
  0,
  0,
  0
 ],
 "maxValues": [
  255,
  255,
  255
 ],
 "meanValues": [
  100.19185639817428,
  100.60286823639004,
  99.57968352300138
 ],
 "stdvValues": [
  43.82701651096015,
  40.57759682827034,
  36.96771259742027
 ],
 "objectIdField": "",
 "fields": [],
 "capabilities": "Image,Metadata,Mensuration",
 "defaultMosaicMethod": "Center",
 "allowedMosaicMethods": "",
 "sortField": "",
 "sortValue": null,
 "sortAscending": true,
 "mosaicOperator": "First",
 "defaultCompressionQuality": 75,
 "defaultResamplingMethod": "Bilinear",
 "maxImageHeight": 4100,
 "maxImageWidth": 15000,
 "allowRasterFunction": true,
 "rasterFunctionInfos": [
  {
   "name": "None",
   "description": "",
   "help": ""
  }
 ],
 "rasterTypeInfos": [
  {
   "name": "Raster Dataset",
   "description": "Supports all ArcGIS Raster Datasets",
   "help": ""
  }
 ],
 "mensurationCapabilities": "Basic",
 "hasHistograms": true,
 "hasColormap": false,
 "hasRasterAttributeTable": false,
 "minScale": 0,
 "maxScale": 0,
 "exportTilesAllowed": false,
 "hasMultidimensions": false,
 "supportsStatistics": false,
 "supportsAdvancedQueries": false,
 "editFieldsInfo": null,
 "ownershipBasedAccessControlForRasters": null,
 "allowComputeTiePoints": false,
 "useStandardizedQueries": true,
 "advancedQueryCapabilities": {
  "useStandardizedQueries": true,
  "supportsStatistics": false,
  "supportsOrderBy": false,
  "supportsDistinct": false,
  "supportsPagination": false
 },
 "spatialReference": {
  "wkid": 25832,
  "latestWkid": 25832
 }
}
